BEGIN:VCALENDAR
VERSION:2.0
PRODID:-//WSV Well - ECPv6.15.9//NONSGML v1.0//EN
CALSCALE:GREGORIAN
METHOD:PUBLISH
X-ORIGINAL-URL:https://wsvwell.nl
X-WR-CALDESC:Evenementen voor WSV Well
REFRESH-INTERVAL;VALUE=DURATION:PT1H
X-Robots-Tag:noindex
X-PUBLISHED-TTL:PT1H
BEGIN:VTIMEZONE
TZID:Europe/Amsterdam
BEGIN:DAYLIGHT
TZOFFSETFROM:+0100
TZOFFSETTO:+0200
TZNAME:CEST
DTSTART:20240331T010000
END:DAYLIGHT
BEGIN:STANDARD
TZOFFSETFROM:+0200
TZOFFSETTO:+0100
TZNAME:CET
DTSTART:20241027T010000
END:STANDARD
BEGIN:DAYLIGHT
TZOFFSETFROM:+0100
TZOFFSETTO:+0200
TZNAME:CEST
DTSTART:20250330T010000
END:DAYLIGHT
BEGIN:STANDARD
TZOFFSETFROM:+0200
TZOFFSETTO:+0100
TZNAME:CET
DTSTART:20251026T010000
END:STANDARD
BEGIN:DAYLIGHT
TZOFFSETFROM:+0100
TZOFFSETTO:+0200
TZNAME:CEST
DTSTART:20260329T010000
END:DAYLIGHT
BEGIN:STANDARD
TZOFFSETFROM:+0200
TZOFFSETTO:+0100
TZNAME:CET
DTSTART:20261025T010000
END:STANDARD
END:VTIMEZONE
BEGIN:VEVENT
DTSTART;TZID=Europe/Amsterdam:20251009T090000
DTEND;TZID=Europe/Amsterdam:20251009T230000
DTSTAMP:20260421T124601
CREATED:20250827T145658Z
LAST-MODIFIED:20251010T140411Z
UID:2169-1760000400-1760050800@wsvwell.nl
SUMMARY:Algemene Ledenvergadering 2025
DESCRIPTION:
URL:https://wsvwell.nl/agenda-item/algemene-ledenvergadering-2026/
LOCATION:Kantine W.S.V. Well
CATEGORIES:Iedereen
END:VEVENT
END:VCALENDAR